BEGIN:VCALENDAR
VERSION:2.0
PRODID:-//wp-events-plugin.com//7.2.3.1//EN
BEGIN:VEVENT
UID:556@springvillearts.com
DTSTART;VALUE=DATE:20210605
DTEND;VALUE=DATE:20210820
DTSTAMP:20210717T130303Z
URL:https://springvillearts.com/events/exploration-in-acrylic-paint-skins/
SUMMARY:Exploration in Acrylic Paint Skins and Beyond - Harold L. Olmsted G
 allery - 5 Jun 21 00:00
DESCRIPTION:Exploration in Acrylic Paint Skins
ATTACH;FMTTYPE=image/jpeg:https://springvillearts.com/wp-content/uploads/2
 020/01/0724-scaled.jpg
CATEGORIES:All Events,Exhibits &amp; Receptions,Gallery Exhibits
LOCATION:Harold L. Olmsted Gallery\, 37 N Buffalo Street\, Springville\, NY
 \, 14141\, United States
GEO:42.509688;-78.66668679999998
X-APPLE-STRUCTURED-LOCATION;VALUE=URI;X-ADDRESS=37 N Buffalo Street\, Sprin
 gville\, NY\, 14141\, United States;X-APPLE-RADIUS=100;X-TITLE=Harold L. O
 lmsted Gallery:geo:42.509688,-78.66668679999998
END:VEVENT
END:VCALENDAR