BEGIN:VCALENDAR
VERSION:2.0
PRODID:-//wp-events-plugin.com//7.2.3.1//EN
BEGIN:VEVENT
UID:1084@springvillearts.com
DTSTART;TZID=America/New_York:20250322T100000
DTEND;TZID=America/New_York:20250322T130000
DTSTAMP:20250317T155916Z
URL:https://springvillearts.com/events/get-in-the-car-auditions/
SUMMARY:"Get in the Car" Auditions - Springville Center for the Arts - 22 M
 ar 25 10:00
DESCRIPTION:The short play series “Get in the Car” is making its way fr
 om Buffalo to SCA. Directed by Matt Boyle and written by local talents in 
 Buffalo\, this suite of plays is a great opportunity for actors of all exp
 erience levels. Stay tuned for audition info.
ATTACH;FMTTYPE=image/jpeg:https://springvillearts.com/wp-content/uploads/2
 025/01/gitcpromo-e1739465888544.jpeg
CATEGORIES:All Events,Auditions,Featured Events,Participate
LOCATION:Springville Center for the Arts\, 37 North Buffalo Street \, Sprin
 gville\, New York\, 14141-1335\, United States
GEO:42.50962;-78.666741
X-APPLE-STRUCTURED-LOCATION;VALUE=URI;X-ADDRESS=37 North Buffalo Street \, 
 Springville\, New York\, 14141-1335\, United States;X-APPLE-RADIUS=100;X-T
 ITLE=Springville Center for the Arts:geo:42.50962,-78.666741
END:VEVENT
BEGIN:VTIMEZONE
TZID:America/New_York
X-LIC-LOCATION:America/New_York
BEGIN:DAYLIGHT
DTSTART:20250309T030000
TZOFFSETFROM:-0500
TZOFFSETTO:-0400
TZNAME:EDT
END:DAYLIGHT
END:VTIMEZONE
END:VCALENDAR