BEGIN:VCALENDAR
VERSION:2.0
PRODID:-//wp-events-plugin.com//7.2.3.1//EN
BEGIN:VEVENT
UID:1154@springvillearts.com
DTSTART;TZID=America/New_York:20250702T183000
DTEND;TZID=America/New_York:20250702T200000
DTSTAMP:20250624T210942Z
URL:https://springvillearts.com/events/linoleum-printed-tea-towels-2/
SUMMARY:LINOLEUM PRINTED TEA TOWELS - Art's Cafe - 2 Jul 25 18:30
DESCRIPTION:Learn the technique of printmaking with linoleum. Carve your ow
 n design that can be used to print on tea towels\, shopping bags\, pillowc
 ases and more. White tea towels will be provided for printing in class. Wi
 th Stacey LeChevet.
ATTACH;FMTTYPE=image/jpeg:https://springvillearts.com/wp-content/uploads/2
 025/01/tea-towels.jpeg
CATEGORIES:All Events,Visual Arts Workshops,Workshops
LOCATION:Art's Cafe\, 5 E Main Street\, Springville\, NY\, 14141\, United S
 tates
X-APPLE-STRUCTURED-LOCATION;VALUE=URI;X-ADDRESS=5 E Main Street\, Springvil
 le\, NY\, 14141\, United States;X-APPLE-RADIUS=100;X-TITLE=Art's Cafe:geo:
 0,0
END:VEVENT
BEGIN:VTIMEZONE
TZID:America/New_York
X-LIC-LOCATION:America/New_York
BEGIN:DAYLIGHT
DTSTART:20250309T030000
TZOFFSETFROM:-0500
TZOFFSETTO:-0400
TZNAME:EDT
END:DAYLIGHT
END:VTIMEZONE
END:VCALENDAR