BEGIN:VCALENDAR
VERSION:2.0
PRODID:-//wp-events-plugin.com//7.2.3.1//EN
BEGIN:VEVENT
UID:1065@springvillearts.com
DTSTART;TZID=America/New_York:20250206T180000
DTEND;TZID=America/New_York:20250206T200000
DTSTAMP:20250106T170521Z
URL:https://springvillearts.com/events/mortar-sculpting/
SUMMARY:MORTAR SCULPTING - Art's Cafe - 6 Feb 25 18:00
DESCRIPTION:A laidback workshop where you’ll get a chance to unleash your
  inner creativity by sculpting a piece of art from your own block of concr
 ete and marble dust. No sculpting knowledge or artistic skill level requir
 ed- just an active imagination. All tools\, materials and gloves will be p
 rovided. With Brian Pfeiffer.
ATTACH;FMTTYPE=image/jpeg:https://springvillearts.com/wp-content/uploads/2
 025/01/mortar.jpeg
CATEGORIES:All Events,Participate,Visual Arts Workshops,Workshops
LOCATION:Art's Cafe\, 5 E Main Street\, Springville\, NY\, 14141\, United S
 tates
X-APPLE-STRUCTURED-LOCATION;VALUE=URI;X-ADDRESS=5 E Main Street\, Springvil
 le\, NY\, 14141\, United States;X-APPLE-RADIUS=100;X-TITLE=Art's Cafe:geo:
 0,0
END:VEVENT
BEGIN:VTIMEZONE
TZID:America/New_York
X-LIC-LOCATION:America/New_York
BEGIN:STANDARD
DTSTART:20241103T010000
TZOFFSETFROM:-0400
TZOFFSETTO:-0500
TZNAME:EST
END:STANDARD
END:VTIMEZONE
END:VCALENDAR