BEGIN:VCALENDAR
VERSION:2.0
PRODID:-//wp-events-plugin.com//7.2.3.1//EN
BEGIN:VEVENT
UID:446@springvillearts.com
DTSTART:20190222T000000Z
DTEND:20190401T000000Z
DTSTAMP:20190403T171529Z
URL:https://springvillearts.com/events/music-education-internship/
SUMMARY:Children's Music Education Internship/Residency - Springville Cente
 r for the Arts. - 22 Feb 19 00:00
DESCRIPTION:Music Education Internship
ATTACH;FMTTYPE=image/jpeg:https://springvillearts.com/wp-content/uploads/2
 013/02/interns-creative-movement.jpg
CATEGORIES:All Events
LOCATION:Springville Center for the Arts.\, 37 N Buffalo Street \, Springvi
 lle\, New York\, 14141\, United States
GEO:42.509621;-78.666740
X-APPLE-STRUCTURED-LOCATION;VALUE=URI;X-ADDRESS=37 N Buffalo Street \, Spri
 ngville\, New York\, 14141\, United States;X-APPLE-RADIUS=100;X-TITLE=Spri
 ngville Center for the Arts.:geo:42.509621,-78.666740
END:VEVENT
END:VCALENDAR