BEGIN:VCALENDAR
VERSION:2.0
PRODID:-//wp-events-plugin.com//7.2.3.1//EN
BEGIN:VEVENT
UID:773@springvillearts.com
DTSTART;TZID=America/New_York:20231110T190000
DTEND;TZID=America/New_York:20231110T210000
DTSTAMP:20231110T191332Z
URL:https://springvillearts.com/events/the-human-dream-project/
SUMMARY:The Human Dream Project - Art's Café - 10 Nov 23 19:00
DESCRIPTION:The Human Dream Project is a multimedia performance project tha
 t takes recordings of humans intimately describing a dream they have had a
 nd illustrates their dreams along to the recording using beautiful and irr
 everent puppetry\, performance and live music.
ATTACH;FMTTYPE=image/jpeg:https://springvillearts.com/wp-content/uploads/2
 023/08/TeddyWolffStAnnsTheClown-e1692822833196.jpg
CATEGORIES:All Events,Featured Events,Performing Arts Workshops,Special
 Events,Theater,Workshops
LOCATION:Art's Café\, 5 East Main Street\, Springville\, NY\, 14141\, Unit
 ed States
X-APPLE-STRUCTURED-LOCATION;VALUE=URI;X-ADDRESS=5 East Main Street\, Spring
 ville\, NY\, 14141\, United States;X-APPLE-RADIUS=100;X-TITLE=Art's Café:
 geo:0,0
END:VEVENT
BEGIN:VTIMEZONE
TZID:America/New_York
X-LIC-LOCATION:America/New_York
BEGIN:STANDARD
DTSTART:20231105T010000
TZOFFSETFROM:-0400
TZOFFSETTO:-0500
TZNAME:EST
END:STANDARD
END:VTIMEZONE
END:VCALENDAR